BEGIN:VCALENDAR
VERSION:2.0
PRODID:-//85.13.143.117//NONSGML kigkonsult.se iCalcreator 2.20//
CALSCALE:GREGORIAN
METHOD:PUBLISH
X-WR-TIMEZONE:Europe/Berlin
BEGIN:VEVENT
UID:event120@TV Achern
DTSTAMP:20260421T091356Z
CATEGORIES:Wettkämpfe\, Feste\, Veranstaltungen
DESCRIPTION:Landesturnfest Kontsnz 2026\nKategorie: Wettkämpfe\, Feste\, Ve
 ranstaltungen\nICS-Link: https://www.tv-achern.de/index.php?option=com_jem
 &view=event&id=120:landesturnfest-kontsnz-2026\n
DTSTART;VALUE=DATE:20260513
DTEND;VALUE=DATE:20260518
SUMMARY:Landesturnfest Kontsnz 2026
URL:https://www.tv-achern.de/index.php?option=com_jem&view=event&id=120:lan
 desturnfest-kontsnz-2026
END:VEVENT
BEGIN:VEVENT
UID:event124@TV Achern
DTSTAMP:20260421T091356Z
CATEGORIES:Wettkämpfe
DESCRIPTION:Kinderturnfest der Ortenauer Turnerjugend\nKategorie: Wettkämpf
 e\nICS-Link: https://www.tv-achern.de/index.php?option=com_jem&view=event&
 id=124:kinderturnfest-der-ortenauer-turnerjugend\n
DTSTART;TZID=Europe/Berlin:20260705T090000
DTEND;TZID=Europe/Berlin:20260705T140000
SUMMARY:Kinderturnfest der Ortenauer Turnerjugend
URL:https://www.tv-achern.de/index.php?option=com_jem&view=event&id=124:kin
 derturnfest-der-ortenauer-turnerjugend
END:VEVENT
BEGIN:VEVENT
UID:event123@TV Achern
DTSTAMP:20260421T091356Z
CATEGORIES:Wettkämpfe
DESCRIPTION:Vereinsmeisterschaften 2026\nKategorie: Wettkämpfe\nICS-Link: h
 ttps://www.tv-achern.de/index.php?option=com_jem&view=event&id=123:vereins
 meisterschaften-2026\n
DTSTART;TZID=Europe/Berlin:20260711T090000
DTEND;TZID=Europe/Berlin:20260711T150000
LOCATION:Jahnhalle\,Jahnstraße\,77855 Achern
SUMMARY:Vereinsmeisterschaften 2026
URL:https://www.tv-achern.de/index.php?option=com_jem&view=event&id=123:ver
 einsmeisterschaften-2026
END:VEVENT
END:VCALENDAR