BEGIN:VCALENDAR
VERSION:2.0
PRODID:-//85.13.143.117//NONSGML kigkonsult.se iCalcreator 2.20//
CALSCALE:GREGORIAN
METHOD:PUBLISH
X-WR-TIMEZONE:Europe/Berlin
BEGIN:VEVENT
UID:event122@TV Achern
DTSTAMP:20260423T120700Z
CATEGORIES:Feste
DESCRIPTION:Fasnachtsumzug\nKategorie: Feste\nICS-Link: https://www.tv-ache
 rn.de/index.php?option=com_jem&view=event&id=122:fasnachtsumzug\n
DTSTART;TZID=Europe/Berlin:20260217T141100
DTEND;TZID=Europe/Berlin:20260217T141100
SUMMARY:Fasnachtsumzug
URL:https://www.tv-achern.de/index.php?option=com_jem&view=event&id=122:fas
 nachtsumzug
END:VEVENT
BEGIN:VEVENT
UID:event121@TV Achern
DTSTAMP:20260423T120700Z
CATEGORIES:Feste\, Veranstaltungen
DESCRIPTION:TV Achern Fasnacht\nKategorie: Feste\, Veranstaltungen\nICS-Lin
 k: https://www.tv-achern.de/index.php?option=com_jem&view=event&id=121:tv-
 achern-fasnacht\n
DTSTART;TZID=Europe/Berlin:20260214T190000
DTEND;TZID=Europe/Berlin:20260214T210000
SUMMARY:TV Achern Fasnacht
URL:https://www.tv-achern.de/index.php?option=com_jem&view=event&id=121:tv-
 achern-fasnacht
END:VEVENT
BEGIN:VEVENT
UID:event119@TV Achern
DTSTAMP:20260423T120700Z
CATEGORIES:Feste
DESCRIPTION:Weihnahchtsfeier am 3. Advent\nKategorie: Feste\nICS-Link: http
 s://www.tv-achern.de/index.php?option=com_jem&view=event&id=119:weihnahcht
 sfeier-am-3-advent\n
DTSTART;TZID=Europe/Berlin:20251213T153000
DTEND;TZID=Europe/Berlin:20251213T153000
LOCATION:Hornisgrindehalle\,Berliner Str. 30\,77855 Achern
SUMMARY:Weihnahchtsfeier am 3. Advent
URL:https://www.tv-achern.de/index.php?option=com_jem&view=event&id=119:wei
 hnahchtsfeier-am-3-advent
END:VEVENT
BEGIN:VEVENT
UID:event118@TV Achern
DTSTAMP:20260423T120700Z
CATEGORIES:Wettkämpfe
DESCRIPTION:Baden-Württemberg Finale Dance\nKategorie: Wettkämpfe\nICS-Link
 : https://www.tv-achern.de/index.php?option=com_jem&view=event&id=118:bade
 n-wuerttemberg-finale-dance\n
DTSTART;TZID=Europe/Berlin:20251122T090000
DTEND;TZID=Europe/Berlin:20251122T180000
LOCATION:Hornisgrindehalle\,Berliner Str. 30\,77855 Achern
SUMMARY:Baden-Württemberg Finale Dance
URL:https://www.tv-achern.de/index.php?option=com_jem&view=event&id=118:bad
 en-wuerttemberg-finale-dance
END:VEVENT
BEGIN:VEVENT
UID:event117@TV Achern
DTSTAMP:20260423T120700Z
CATEGORIES:Sonstiges
DESCRIPTION:#BEACTIVE Woche 2025\nKategorie: Sonstiges\nICS-Link: https://w
 ww.tv-achern.de/index.php?option=com_jem&view=event&id=117:beactive-woche-
 2025\n
DTSTART;VALUE=DATE:20250923
DTEND;VALUE=DATE:20251001
LOCATION:Jahnhalle\,Jahnstraße\,77855 Achern
SUMMARY:#BEACTIVE Woche 2025
URL:https://www.tv-achern.de/index.php?option=com_jem&view=event&id=117:bea
 ctive-woche-2025
END:VEVENT
BEGIN:VEVENT
UID:event116@TV Achern
DTSTAMP:20260423T120700Z
CATEGORIES:Sonstiges
DESCRIPTION:Saisonstart 2025/2026\nKategorie: Sonstiges\nICS-Link: https://
 www.tv-achern.de/index.php?option=com_jem&view=event&id=116:saisonstart-20
 25-2026\n
DTSTART;VALUE=DATE:20250915
DTEND;VALUE=DATE:20250916
SUMMARY:Saisonstart 2025/2026
URL:https://www.tv-achern.de/index.php?option=com_jem&view=event&id=116:sai
 sonstart-2025-2026
END:VEVENT
BEGIN:VEVENT
UID:event113@TV Achern
DTSTAMP:20260423T120700Z
CATEGORIES:Veranstaltungen
DESCRIPTION:Landeskinderturnfest in Bühl\nKategorie: Veranstaltungen\nICS-L
 ink: https://www.tv-achern.de/index.php?option=com_jem&view=event&id=113:l
 andeskinderturnfest-in-buehl\n
DTSTART;TZID=Europe/Berlin:20250725T100000
DTEND;TZID=Europe/Berlin:20250727T180000
SUMMARY:Landeskinderturnfest in Bühl
URL:https://www.tv-achern.de/index.php?option=com_jem&view=event&id=113:lan
 deskinderturnfest-in-buehl
END:VEVENT
BEGIN:VEVENT
UID:event115@TV Achern
DTSTAMP:20260423T120700Z
CATEGORIES:Feste
DESCRIPTION:Stadtfest der Stadt Achern\nKategorie: Feste\nICS-Link: https:/
 /www.tv-achern.de/index.php?option=com_jem&view=event&id=115:stadtfest-der
 -stadt-achern\n
DTSTART;VALUE=DATE:20250712
DTEND;VALUE=DATE:20250714
SUMMARY:Stadtfest der Stadt Achern
URL:https://www.tv-achern.de/index.php?option=com_jem&view=event&id=115:sta
 dtfest-der-stadt-achern
END:VEVENT
BEGIN:VEVENT
UID:event114@TV Achern
DTSTAMP:20260423T120700Z
CATEGORIES:Wettkämpfe
DESCRIPTION:Vereinsmeisterschaften 2025\nKategorie: Wettkämpfe\nICS-Link: h
 ttps://www.tv-achern.de/index.php?option=com_jem&view=event&id=114:vereins
 meisterschaften-2025\n
DTSTART;VALUE=DATE:20250705
DTEND;VALUE=DATE:20250706
LOCATION:Jahnhalle\,Jahnstraße\,77855 Achern
SUMMARY:Vereinsmeisterschaften 2025
URL:https://www.tv-achern.de/index.php?option=com_jem&view=event&id=114:ver
 einsmeisterschaften-2025
END:VEVENT
BEGIN:VEVENT
UID:event112@TV Achern
DTSTAMP:20260423T120700Z
CATEGORIES:Veranstaltungen
DESCRIPTION:Internationales Deutsches Turnfest in Leipzig\nKategorie: Veran
 staltungen\nICS-Link: https://www.tv-achern.de/index.php?option=com_jem&vi
 ew=event&id=112:internationales-deutsches-turnfest-in-leipzig\n
DTSTART;VALUE=DATE:20250528
DTEND;VALUE=DATE:20250602
LOCATION:Leipzig\,Germany
SUMMARY:Internationales Deutsches Turnfest in Leipzig
URL:https://www.tv-achern.de/index.php?option=com_jem&view=event&id=112:int
 ernationales-deutsches-turnfest-in-leipzig
END:VEVENT
BEGIN:VEVENT
UID:event111@TV Achern
DTSTAMP:20260423T120700Z
CATEGORIES:Feste
DESCRIPTION:Kinderfasnacht\nKategorie: Feste\nICS-Link: https://www.tv-ache
 rn.de/index.php?option=com_jem&view=event&id=111:kinderfasnacht\n
DTSTART;TZID=Europe/Berlin:20250302T153000
DTEND;TZID=Europe/Berlin:20250302T180000
LOCATION:Hornisgrindehalle\,Berliner Str. 30\,77855 Achern
SUMMARY:Kinderfasnacht
URL:https://www.tv-achern.de/index.php?option=com_jem&view=event&id=111:kin
 derfasnacht
END:VEVENT
BEGIN:VEVENT
UID:event110@TV Achern
DTSTAMP:20260423T120700Z
CATEGORIES:Veranstaltungen
DESCRIPTION:Weihnachtsfeier des TV Achern\nKategorie: Veranstaltungen\nICS-
 Link: https://www.tv-achern.de/index.php?option=com_jem&view=event&id=110:
 weihnachtsfeier-des-tv-achern\n
DTSTART;TZID=Europe/Berlin:20241214T150000
DTEND;TZID=Europe/Berlin:20241214T150000
LOCATION:Hornisgrindehalle\,Berliner Str. 30\,77855 Achern
SUMMARY:Weihnachtsfeier des TV Achern
URL:https://www.tv-achern.de/index.php?option=com_jem&view=event&id=110:wei
 hnachtsfeier-des-tv-achern
END:VEVENT
BEGIN:VEVENT
UID:event109@TV Achern
DTSTAMP:20260423T120700Z
CATEGORIES:Veranstaltungen
DESCRIPTION:#BEACTIVE Woche 2024\nKategorie: Veranstaltungen\nICS-Link: htt
 ps://www.tv-achern.de/index.php?option=com_jem&view=event&id=109:beactive-
 woche-2024\n
DTSTART;VALUE=DATE:20240923
DTEND;VALUE=DATE:20241001
SUMMARY:#BEACTIVE Woche 2024
URL:https://www.tv-achern.de/index.php?option=com_jem&view=event&id=109:bea
 ctive-woche-2024
END:VEVENT
BEGIN:VEVENT
UID:event108@TV Achern
DTSTAMP:20260423T120700Z
CATEGORIES:Sonstiges
DESCRIPTION:Saisonstart 2024/2025\nKategorie: Sonstiges\nICS-Link: https://
 www.tv-achern.de/index.php?option=com_jem&view=event&id=108:saisonstart-20
 24-2025\n
DTSTART;VALUE=DATE:20240909
DTEND;VALUE=DATE:20240910
SUMMARY:Saisonstart 2024/2025
URL:https://www.tv-achern.de/index.php?option=com_jem&view=event&id=108:sai
 sonstart-2024-2025
END:VEVENT
BEGIN:VEVENT
UID:event105@TV Achern
DTSTAMP:20260423T120700Z
CATEGORIES:Wettkämpfe
DESCRIPTION:Vereinsmeisterschaften 2024\nKategorie: Wettkämpfe\nICS-Link: h
 ttps://www.tv-achern.de/index.php?option=com_jem&view=event&id=105:vereins
 meisterschaften-2024\n
DTSTART;TZID=Europe/Berlin:20240706T090000
DTEND;TZID=Europe/Berlin:20240706T150000
LOCATION:Jahnhalle\,Jahnstraße\,77855 Achern
SUMMARY:Vereinsmeisterschaften 2024
URL:https://www.tv-achern.de/index.php?option=com_jem&view=event&id=105:ver
 einsmeisterschaften-2024
END:VEVENT
BEGIN:VEVENT
UID:event106@TV Achern
DTSTAMP:20260423T120700Z
CATEGORIES:Sonstiges
DESCRIPTION:Trikottag in Baden-Württemberg\nKategorie: Sonstiges\nICS-Link:
  https://www.tv-achern.de/index.php?option=com_jem&view=event&id=106:triko
 ttag-in-baden-wuerttemberg\n
DTSTART;VALUE=DATE:20240611
DTEND;VALUE=DATE:20240612
SUMMARY:Trikottag in Baden-Württemberg
URL:https://www.tv-achern.de/index.php?option=com_jem&view=event&id=106:tri
 kottag-in-baden-wuerttemberg
END:VEVENT
BEGIN:VEVENT
UID:event104@TV Achern
DTSTAMP:20260423T120700Z
CATEGORIES:Wettkämpfe
DESCRIPTION:Landesturnfest in Ravensburg\nKategorie: Wettkämpfe\nICS-Link: 
 https://www.tv-achern.de/index.php?option=com_jem&view=event&id=104:landes
 turnfest-in-ravensburg\n
DTSTART;VALUE=DATE:20240530
DTEND;VALUE=DATE:20240603
SUMMARY:Landesturnfest in Ravensburg
URL:https://www.tv-achern.de/index.php?option=com_jem&view=event&id=104:lan
 desturnfest-in-ravensburg
END:VEVENT
BEGIN:VEVENT
UID:event103@TV Achern
DTSTAMP:20260423T120700Z
CATEGORIES:Veranstaltungen
DESCRIPTION:Kinderfasnacht des TV Achern\nKategorie: Veranstaltungen\nICS-L
 ink: https://www.tv-achern.de/index.php?option=com_jem&view=event&id=103:k
 inderfasnacht-des-tv-achern\n
DTSTART;TZID=Europe/Berlin:20240211T151100
DTEND;TZID=Europe/Berlin:20240211T151100
LOCATION:Hornisgrindehalle\,Berliner Str. 30\,77855 Achern
SUMMARY:Kinderfasnacht des TV Achern
URL:https://www.tv-achern.de/index.php?option=com_jem&view=event&id=103:kin
 derfasnacht-des-tv-achern
END:VEVENT
BEGIN:VEVENT
UID:event102@TV Achern
DTSTAMP:20260423T120700Z
CATEGORIES:Feste
DESCRIPTION:Weihnachtsfeier des TV Achern\nKategorie: Feste\nICS-Link: http
 s://www.tv-achern.de/index.php?option=com_jem&view=event&id=102:weihnachts
 feier-des-tv-achern\n
DTSTART;TZID=Europe/Berlin:20231216T153000
DTEND;TZID=Europe/Berlin:20231216T180000
LOCATION:Hornisgrindehalle\,Berliner Str. 30\,77855 Achern
SUMMARY:Weihnachtsfeier des TV Achern
URL:https://www.tv-achern.de/index.php?option=com_jem&view=event&id=102:wei
 hnachtsfeier-des-tv-achern
END:VEVENT
BEGIN:VEVENT
UID:event99@TV Achern
DTSTAMP:20260423T120700Z
CATEGORIES:Veranstaltungen
DESCRIPTION:#BEACHTIVE Night\nKategorie: Veranstaltungen\nICS-Link: https:/
 /www.tv-achern.de/index.php?option=com_jem&view=event&id=99:beachtive-nigh
 t\n
DTSTART;TZID=Europe/Berlin:20230930T160000
DTEND;TZID=Europe/Berlin:20230930T160000
LOCATION:Jahnhalle\,Jahnstraße\,77855 Achern
SUMMARY:#BEACHTIVE Night
URL:https://www.tv-achern.de/index.php?option=com_jem&view=event&id=99:beac
 htive-night
END:VEVENT
BEGIN:VEVENT
UID:event98@TV Achern
DTSTAMP:20260423T120700Z
CATEGORIES:Veranstaltungen
DESCRIPTION:#BEACTIVE Woche \nKategorie: Veranstaltungen\nICS-Link: https:/
 /www.tv-achern.de/index.php?option=com_jem&view=event&id=98:beactive-woche
 \n
DTSTART;VALUE=DATE:20230923
DTEND;VALUE=DATE:20231001
LOCATION:Jahnhalle\,Jahnstraße\,77855 Achern
SUMMARY:#BEACTIVE Woche 
URL:https://www.tv-achern.de/index.php?option=com_jem&view=event&id=98:beac
 tive-woche
END:VEVENT
BEGIN:VEVENT
UID:event97@TV Achern
DTSTAMP:20260423T120700Z
CATEGORIES:Veranstaltungen
DESCRIPTION:Abenteuer Turnhalle\nKategorie: Veranstaltungen\nICS-Link: http
 s://www.tv-achern.de/index.php?option=com_jem&view=event&id=97:abenteuer-t
 urnhalle\n
DTSTART;TZID=Europe/Berlin:20230715T120000
DTEND;TZID=Europe/Berlin:20230715T160000
LOCATION:Jahnhalle\,Jahnstraße\,77855 Achern
SUMMARY:Abenteuer Turnhalle
URL:https://www.tv-achern.de/index.php?option=com_jem&view=event&id=97:aben
 teuer-turnhalle
END:VEVENT
BEGIN:VEVENT
UID:event94@TV Achern
DTSTAMP:20260423T120700Z
CATEGORIES:Wettkämpfe
DESCRIPTION:Vereinsmeisterschaften 2023\nKategorie: Wettkämpfe\nICS-Link: h
 ttps://www.tv-achern.de/index.php?option=com_jem&view=event&id=94:vereinsm
 eisterschaften-2023\n
DTSTART;TZID=Europe/Berlin:20230715T093000
DTEND;TZID=Europe/Berlin:20230715T093000
LOCATION:Jahnhalle\,Jahnstraße\,77855 Achern
SUMMARY:Vereinsmeisterschaften 2023
URL:https://www.tv-achern.de/index.php?option=com_jem&view=event&id=94:vere
 insmeisterschaften-2023
END:VEVENT
BEGIN:VEVENT
UID:event96@TV Achern
DTSTAMP:20260423T120700Z
CATEGORIES:Feste
DESCRIPTION:Stadtfest Achern\nKategorie: Feste\nICS-Link: https://www.tv-ac
 hern.de/index.php?option=com_jem&view=event&id=96:stadtfest-achern\n
DTSTART;VALUE=DATE:20230715
DTEND;VALUE=DATE:20230717
SUMMARY:Stadtfest Achern
URL:https://www.tv-achern.de/index.php?option=com_jem&view=event&id=96:stad
 tfest-achern
END:VEVENT
BEGIN:VEVENT
UID:event95@TV Achern
DTSTAMP:20260423T120700Z
CATEGORIES:Veranstaltungen
DESCRIPTION:Landeskinderturnfest in Offenburg\nKategorie: Veranstaltungen\n
 ICS-Link: https://www.tv-achern.de/index.php?option=com_jem&view=event&id=
 95:landeskinderturnfest-in-offenburg\n
DTSTART;VALUE=DATE:20230707
DTEND;VALUE=DATE:20230710
SUMMARY:Landeskinderturnfest in Offenburg
URL:https://www.tv-achern.de/index.php?option=com_jem&view=event&id=95:land
 eskinderturnfest-in-offenburg
END:VEVENT
BEGIN:VEVENT
UID:event101@TV Achern
DTSTAMP:20260423T120700Z
CATEGORIES:Sonstiges
DESCRIPTION:Jahreshauptversammlung 2023\nKategorie: Sonstiges\nICS-Link: ht
 tps://www.tv-achern.de/index.php?option=com_jem&view=event&id=101:jahresha
 uptversammlung-2023\n
DTSTART;TZID=Europe/Berlin:20230414T193000
DTEND;TZID=Europe/Berlin:20230414T220000
SUMMARY:Jahreshauptversammlung 2023
URL:https://www.tv-achern.de/index.php?option=com_jem&view=event&id=101:jah
 reshauptversammlung-2023
END:VEVENT
BEGIN:VEVENT
UID:event93@TV Achern
DTSTAMP:20260423T120700Z
CATEGORIES:Feste
DESCRIPTION:Kinderfasnacht\nKategorie: Feste\nICS-Link: https://www.tv-ache
 rn.de/index.php?option=com_jem&view=event&id=93:kinderfasnacht\n
DTSTART;TZID=Europe/Berlin:20230219T153100
DTEND;TZID=Europe/Berlin:20230219T180100
LOCATION:Hornisgrindehalle\,Berliner Str. 30\,77855 Achern
SUMMARY:Kinderfasnacht
URL:https://www.tv-achern.de/index.php?option=com_jem&view=event&id=93:kind
 erfasnacht
END:VEVENT
BEGIN:VEVENT
UID:event100@TV Achern
DTSTAMP:20260423T120700Z
CATEGORIES:Veranstaltungen
DESCRIPTION:Närrischer Abend\nKategorie: Veranstaltungen\nICS-Link: https:/
 /www.tv-achern.de/index.php?option=com_jem&view=event&id=100:naerrischer-a
 bend\n
DTSTART;TZID=Europe/Berlin:20230210T193100
DTEND;TZID=Europe/Berlin:20230210T193100
SUMMARY:Närrischer Abend
URL:https://www.tv-achern.de/index.php?option=com_jem&view=event&id=100:nae
 rrischer-abend
END:VEVENT
BEGIN:VEVENT
UID:event90@TV Achern
DTSTAMP:20260423T120700Z
CATEGORIES:Feste
DESCRIPTION:Weihnachtsfeier TV Achern\nKategorie: Feste\nICS-Link: https://
 www.tv-achern.de/index.php?option=com_jem&view=event&id=90:weihnachtsfeier
 -tv-achern\n
DTSTART;VALUE=DATE:20221210
DTEND;VALUE=DATE:20221211
SUMMARY:Weihnachtsfeier TV Achern
URL:https://www.tv-achern.de/index.php?option=com_jem&view=event&id=90:weih
 nachtsfeier-tv-achern
END:VEVENT
BEGIN:VEVENT
UID:event92@TV Achern
DTSTAMP:20260423T120700Z
CATEGORIES:Veranstaltungen
DESCRIPTION:Bundesweiter Kinderturntag\nKategorie: Veranstaltungen\nICS-Lin
 k: https://www.tv-achern.de/index.php?option=com_jem&view=event&id=92:bund
 esweiter-kinderturntag\n
DTSTART;VALUE=DATE:20221111
DTEND;VALUE=DATE:20221114
SUMMARY:Bundesweiter Kinderturntag
URL:https://www.tv-achern.de/index.php?option=com_jem&view=event&id=92:bund
 esweiter-kinderturntag
END:VEVENT
BEGIN:VEVENT
UID:event91@TV Achern
DTSTAMP:20260423T120700Z
CATEGORIES:Sonstiges
DESCRIPTION:#beactive Woche\nKategorie: Sonstiges\nICS-Link: https://www.tv
 -achern.de/index.php?option=com_jem&view=event&id=91:beactive-woche\n
DTSTART;VALUE=DATE:20220923
DTEND;VALUE=DATE:20221001
SUMMARY:#beactive Woche
URL:https://www.tv-achern.de/index.php?option=com_jem&view=event&id=91:beac
 tive-woche
END:VEVENT
BEGIN:VEVENT
UID:event89@TV Achern
DTSTAMP:20260423T120700Z
CATEGORIES:Sonstiges
DESCRIPTION:Saisonbeginn 2022/2023\nKategorie: Sonstiges\nICS-Link: https:/
 /www.tv-achern.de/index.php?option=com_jem&view=event&id=89:saisonbeginn-2
 022-2023\n
DTSTART;VALUE=DATE:20220912
DTEND;VALUE=DATE:20220913
SUMMARY:Saisonbeginn 2022/2023
URL:https://www.tv-achern.de/index.php?option=com_jem&view=event&id=89:sais
 onbeginn-2022-2023
END:VEVENT
BEGIN:VEVENT
UID:event88@TV Achern
DTSTAMP:20260423T120700Z
CATEGORIES:Wettkämpfe
DESCRIPTION:Vereinsmeisterschaften und Kinderturntag des TV Achern\nKategor
 ie: Wettkämpfe\nICS-Link: https://www.tv-achern.de/index.php?option=com_je
 m&view=event&id=88:vereinsmeisterschaften-und-kinderturntag-des-tv-achern
 \n
DTSTART;VALUE=DATE:20220709
DTEND;VALUE=DATE:20220710
LOCATION:Jahnhalle\,Jahnstraße\,77855 Achern
SUMMARY:Vereinsmeisterschaften und Kinderturntag des TV Achern
URL:https://www.tv-achern.de/index.php?option=com_jem&view=event&id=88:vere
 insmeisterschaften-und-kinderturntag-des-tv-achern
END:VEVENT
BEGIN:VEVENT
UID:event87@TV Achern
DTSTAMP:20260423T120700Z
CATEGORIES:Feste
DESCRIPTION:Landesturnfest in Lahr\nKategorie: Feste\nICS-Link: https://www
 .tv-achern.de/index.php?option=com_jem&view=event&id=87:landesturnfest-in-
 lahr\n
DTSTART;VALUE=DATE:20220525
DTEND;VALUE=DATE:20220530
SUMMARY:Landesturnfest in Lahr
URL:https://www.tv-achern.de/index.php?option=com_jem&view=event&id=87:land
 esturnfest-in-lahr
END:VEVENT
BEGIN:VEVENT
UID:event86@TV Achern
DTSTAMP:20260423T120700Z
CATEGORIES:Veranstaltungen
DESCRIPTION:Jahreshauptversammlung 2022\nKategorie: Veranstaltungen\nICS-Li
 nk: https://www.tv-achern.de/index.php?option=com_jem&view=event&id=86:jah
 reshauptversammlung-2022\n
DTSTART;TZID=Europe/Berlin:20220429T193000
DTEND;TZID=Europe/Berlin:20220429T220000
SUMMARY:Jahreshauptversammlung 2022
URL:https://www.tv-achern.de/index.php?option=com_jem&view=event&id=86:jahr
 eshauptversammlung-2022
END:VEVENT
BEGIN:VEVENT
UID:event80@TV Achern
DTSTAMP:20260423T120700Z
CATEGORIES:Feste
DESCRIPTION:Adventsfeier des TV Achern\nKategorie: Feste\nICS-Link: https:/
 /www.tv-achern.de/index.php?option=com_jem&view=event&id=80:adventsfeier-d
 es-tv-achern\n
DTSTART;TZID=Europe/Berlin:20201212T160000
DTEND;TZID=Europe/Berlin:20201212T180000
LOCATION:Hornisgrindehalle\,Berliner Str. 30\,77855 Achern
SUMMARY:Adventsfeier des TV Achern
URL:https://www.tv-achern.de/index.php?option=com_jem&view=event&id=80:adve
 ntsfeier-des-tv-achern
END:VEVENT
BEGIN:VEVENT
UID:event79@TV Achern
DTSTAMP:20260423T120700Z
CATEGORIES:Wettkämpfe
DESCRIPTION:Festival der Gymnastik in Lahr\nKategorie: Wettkämpfe\nICS-Link
 : https://www.tv-achern.de/index.php?option=com_jem&view=event&id=79:festi
 val-der-gymnastik-in-lahr\n
DTSTART;VALUE=DATE:20201107
DTEND;VALUE=DATE:20201108
SUMMARY:Festival der Gymnastik in Lahr
URL:https://www.tv-achern.de/index.php?option=com_jem&view=event&id=79:fest
 ival-der-gymnastik-in-lahr
END:VEVENT
BEGIN:VEVENT
UID:event84@TV Achern
DTSTAMP:20260423T120700Z
CATEGORIES:Sonstiges
DESCRIPTION:bundesweiter Kinderturntag\nKategorie: Sonstiges\nICS-Link: htt
 ps://www.tv-achern.de/index.php?option=com_jem&view=event&id=84:bundesweit
 er-kinderturntag\n
DTSTART;VALUE=DATE:20201106
DTEND;VALUE=DATE:20201109
SUMMARY:bundesweiter Kinderturntag
URL:https://www.tv-achern.de/index.php?option=com_jem&view=event&id=84:bund
 esweiter-kinderturntag
END:VEVENT
BEGIN:VEVENT
UID:event83@TV Achern
DTSTAMP:20260423T120700Z
CATEGORIES:Veranstaltungen
DESCRIPTION:#beactive Fitness night\nKategorie: Veranstaltungen\nICS-Link: 
 https://www.tv-achern.de/index.php?option=com_jem&view=event&id=83:beactiv
 e-fitness-night\n
DTSTART;VALUE=DATE:20200926
DTEND;VALUE=DATE:20200927
LOCATION:Jahnhalle\,Jahnstraße\,77855 Achern
SUMMARY:#beactive Fitness night
URL:https://www.tv-achern.de/index.php?option=com_jem&view=event&id=83:beac
 tive-fitness-night
END:VEVENT
END:VCALENDAR